BEGIN:VCALENDAR
VERSION:2.0
PRODID:-//Jersey Shore Public Library - ECPv6.8.3//NONSGML v1.0//EN
CALSCALE:GREGORIAN
METHOD:PUBLISH
X-WR-CALNAME:Jersey Shore Public Library
X-ORIGINAL-URL:https://jsplpa.org
X-WR-CALDESC:Events for Jersey Shore Public Library
REFRESH-INTERVAL;VALUE=DURATION:PT1H
X-Robots-Tag:noindex
X-PUBLISHED-TTL:PT1H
BEGIN:VTIMEZONE
TZID:America/New_York
BEGIN:DAYLIGHT
TZOFFSETFROM:-0500
TZOFFSETTO:-0400
TZNAME:EDT
DTSTART:20250309T070000
END:DAYLIGHT
BEGIN:STANDARD
TZOFFSETFROM:-0400
TZOFFSETTO:-0500
TZNAME:EST
DTSTART:20251102T060000
END:STANDARD
END:VTIMEZONE
BEGIN:VEVENT
DTSTART;TZID=America/New_York:20250312T093000
DTEND;TZID=America/New_York:20250312T160000
DTSTAMP:20260419T160312
CREATED:20250121T141441Z
LAST-MODIFIED:20250303T155355Z
UID:10000383-1741771800-1741795200@jsplpa.org
SUMMARY:Friends of JSPL Book Sale 9:30-4:00
DESCRIPTION:Thousands of books at really cheap prices!
URL:https://jsplpa.org/event/friends-of-jspl-book-sale/
LOCATION:Library Community Room
END:VEVENT
BEGIN:VEVENT
DTSTART;TZID=America/New_York:20250311T170000
DTEND;TZID=America/New_York:20250311T180000
DTSTAMP:20260419T160312
CREATED:20250121T141051Z
LAST-MODIFIED:20250121T141051Z
UID:10000379-1741712400-1741716000@jsplpa.org
SUMMARY:JSPL Board of Trustees meeting 5:00 p.m.
DESCRIPTION:
URL:https://jsplpa.org/event/jspl-board-of-trustees-meeting-500-p-m/2025-03-11/
LOCATION:Library Community Room
END:VEVENT
BEGIN:VEVENT
DTSTART;TZID=America/New_York:20250211T170000
DTEND;TZID=America/New_York:20250211T180000
DTSTAMP:20260419T160312
CREATED:20250121T141051Z
LAST-MODIFIED:20250121T141051Z
UID:10000378-1739293200-1739296800@jsplpa.org
SUMMARY:JSPL Board of Trustees meeting 5:00 p.m.
DESCRIPTION:
URL:https://jsplpa.org/event/jspl-board-of-trustees-meeting-500-p-m/2025-02-11/
LOCATION:Library Community Room
END:VEVENT
END:VCALENDAR