BEGIN:VCALENDAR
VERSION:2.0
PRODID:-//Jersey Shore Public Library - ECPv6.8.3//NONSGML v1.0//EN
CALSCALE:GREGORIAN
METHOD:PUBLISH
X-ORIGINAL-URL:https://jsplpa.org
X-WR-CALDESC:Events for Jersey Shore Public Library
REFRESH-INTERVAL;VALUE=DURATION:PT1H
X-Robots-Tag:noindex
X-PUBLISHED-TTL:PT1H
BEGIN:VTIMEZONE
TZID:America/New_York
BEGIN:DAYLIGHT
TZOFFSETFROM:-0500
TZOFFSETTO:-0400
TZNAME:EDT
DTSTART:20250309T070000
END:DAYLIGHT
BEGIN:STANDARD
TZOFFSETFROM:-0400
TZOFFSETTO:-0500
TZNAME:EST
DTSTART:20251102T060000
END:STANDARD
END:VTIMEZONE
BEGIN:VEVENT
DTSTART;TZID=America/New_York:20250418T080000
DTEND;TZID=America/New_York:20250418T170000
DTSTAMP:20260425T074811
CREATED:20250411T200614Z
LAST-MODIFIED:20250411T200614Z
UID:10000387-1744963200-1744995600@jsplpa.org
SUMMARY:LIBRARY CLOSED
DESCRIPTION:
URL:https://jsplpa.org/event/library-closed/
END:VEVENT
BEGIN:VEVENT
DTSTART;TZID=America/New_York:20250419T080000
DTEND;TZID=America/New_York:20250419T170000
DTSTAMP:20260425T074811
CREATED:20250411T200647Z
LAST-MODIFIED:20250411T200647Z
UID:10000388-1745049600-1745082000@jsplpa.org
SUMMARY:LIBRARY CLOSED
DESCRIPTION:
URL:https://jsplpa.org/event/library-closed-2/
END:VEVENT
BEGIN:VEVENT
DTSTART;TZID=America/New_York:20250424T103000
DTEND;TZID=America/New_York:20250424T233000
DTSTAMP:20260425T074811
CREATED:20250121T140832Z
LAST-MODIFIED:20250121T140832Z
UID:10000324-1745490600-1745537400@jsplpa.org
SUMMARY:Storytime with Miss Kim 10:30 a.m.
DESCRIPTION:Join us for our weekly storytime for preschool age children and care givers.  Featuring stories\, songs\, finger plays\, puppets and crafts.
URL:https://jsplpa.org/event/storytime-with-miss-kim-1030-a-m/2025-04-24/
END:VEVENT
BEGIN:VEVENT
DTSTART;TZID=America/New_York:20250501T103000
DTEND;TZID=America/New_York:20250501T233000
DTSTAMP:20260425T074811
CREATED:20250121T140832Z
LAST-MODIFIED:20250121T140832Z
UID:10000325-1746095400-1746142200@jsplpa.org
SUMMARY:Storytime with Miss Kim 10:30 a.m.
DESCRIPTION:Join us for our weekly storytime for preschool age children and care givers.  Featuring stories\, songs\, finger plays\, puppets and crafts.
URL:https://jsplpa.org/event/storytime-with-miss-kim-1030-a-m/2025-05-01/
END:VEVENT
BEGIN:VEVENT
DTSTART;TZID=America/New_York:20250501T180000
DTEND;TZID=America/New_York:20250501T190000
DTSTAMP:20260425T074811
CREATED:20250411T202103Z
LAST-MODIFIED:20250501T134449Z
UID:10000389-1746122400-1746126000@jsplpa.org
SUMMARY:Wonderful World of Weather 6:00-7:00 . Ages 7-14. Registration required
DESCRIPTION:
URL:https://jsplpa.org/event/wonderful-world-of-weather-600-730-registration-required/
LOCATION:Library Community Room
END:VEVENT
BEGIN:VEVENT
DTSTART;TZID=America/New_York:20250508T180000
DTEND;TZID=America/New_York:20250508T193000
DTSTAMP:20260425T074812
CREATED:20250411T202311Z
LAST-MODIFIED:20250507T120726Z
UID:10000390-1746727200-1746732600@jsplpa.org
SUMMARY:History's Mysteries!  6:00-7:30.  Age 5-10. Registration required.
DESCRIPTION:
URL:https://jsplpa.org/event/historys-mysteries-600-730-registration-required/
LOCATION:Library Community Room
END:VEVENT
BEGIN:VEVENT
DTSTART;TZID=America/New_York:20250513T170000
DTEND;TZID=America/New_York:20250513T180000
DTSTAMP:20260425T074812
CREATED:20250121T141051Z
LAST-MODIFIED:20250121T141051Z
UID:10000381-1747155600-1747159200@jsplpa.org
SUMMARY:JSPL Board of Trustees meeting 5:00 p.m.
DESCRIPTION:
URL:https://jsplpa.org/event/jspl-board-of-trustees-meeting-500-p-m/2025-05-13/
LOCATION:Library Community Room
END:VEVENT
BEGIN:VEVENT
DTSTART;TZID=America/New_York:20250515T170000
DTEND;TZID=America/New_York:20250515T183000
DTSTAMP:20260425T074812
CREATED:20250411T202425Z
LAST-MODIFIED:20250421T155804Z
UID:10000391-1747328400-1747333800@jsplpa.org
SUMMARY:Painted Pottery with Centered Earth. 5:00-6:30. Age 8-17. Registration required.
DESCRIPTION:
URL:https://jsplpa.org/event/painted-pottery-with-centered-earth-500-630-registration-required/
LOCATION:Library Community Room
END:VEVENT
BEGIN:VEVENT
DTSTART;TZID=America/New_York:20250602T090000
DTEND;TZID=America/New_York:20250602T170000
DTSTAMP:20260425T074812
CREATED:20250505T140908Z
LAST-MODIFIED:20250505T141720Z
UID:10000392-1748854800-1748883600@jsplpa.org
SUMMARY:Summer Learning Registration Begins!
DESCRIPTION:It’s so easy! Stop by and pick up your keepsake book bag and reading log anytime after June 2nd. That’s all you have to do to get registered! Programs begin with a Kickoff Magic Show with the Amazing Magi on June 12th at 6:00 p.m. All programs will be listed inside your book log.
URL:https://jsplpa.org/event/summer-learning-registration-begins/
END:VEVENT
BEGIN:VEVENT
DTSTART;TZID=America/New_York:20250610T170000
DTEND;TZID=America/New_York:20250610T180000
DTSTAMP:20260425T074812
CREATED:20250121T141051Z
LAST-MODIFIED:20250121T141051Z
UID:10000382-1749574800-1749578400@jsplpa.org
SUMMARY:JSPL Board of Trustees meeting 5:00 p.m.
DESCRIPTION:
URL:https://jsplpa.org/event/jspl-board-of-trustees-meeting-500-p-m/2025-06-10/
LOCATION:Library Community Room
END:VEVENT
BEGIN:VEVENT
DTSTART;TZID=America/New_York:20250612T180000
DTEND;TZID=America/New_York:20250612T190000
DTSTAMP:20260425T074812
CREATED:20250505T141316Z
LAST-MODIFIED:20250505T152520Z
UID:10000393-1749751200-1749754800@jsplpa.org
SUMMARY:The Amazing Magi. Free Family Magic Show 6:00 p.m.
DESCRIPTION:We kickoff our Summer Learning programs with The Amazing Magi\, Michael Reist\, and his “Color Our World: The magic\, reading\, and art of our colorful world.”
URL:https://jsplpa.org/event/the-amazing-magi-magic-show-600-p-m/
LOCATION:Library Community Room
END:VEVENT
BEGIN:VEVENT
DTSTART;TZID=America/New_York:20250616T110000
DTEND;TZID=America/New_York:20250616T120000
DTSTAMP:20260425T074812
CREATED:20250505T142616Z
LAST-MODIFIED:20250505T150739Z
UID:10000394-1750071600-1750075200@jsplpa.org
SUMMARY:Preschool storytime. Colorful capers.  11:00 a.m.
DESCRIPTION:
URL:https://jsplpa.org/event/preschool-storytime-colorful-capers-1100-a-m/2025-06-16/
END:VEVENT
BEGIN:VEVENT
DTSTART;TZID=America/New_York:20250617T180000
DTEND;TZID=America/New_York:20250617T200000
DTSTAMP:20260425T074812
CREATED:20250505T142932Z
LAST-MODIFIED:20250505T150343Z
UID:10000453-1750183200-1750190400@jsplpa.org
SUMMARY:Teen Summer Reading Club  6:00 p.m.
DESCRIPTION:
URL:https://jsplpa.org/event/teen-summer-reading-club-600/2025-06-17/
END:VEVENT
BEGIN:VEVENT
DTSTART;TZID=America/New_York:20250619T180000
DTEND;TZID=America/New_York:20250619T190000
DTSTAMP:20260425T074812
CREATED:20250505T144139Z
LAST-MODIFIED:20250505T150304Z
UID:10000511-1750356000-1750359600@jsplpa.org
SUMMARY:Kids' Summer Reading Clubs. 6:00-7:00 p.m. Ages 2-6 and 7-12.
DESCRIPTION:
URL:https://jsplpa.org/event/kids-summer-reading-clubs-600-700-p-m-ages-2-6-and-7-12/2025-06-19/
END:VEVENT
BEGIN:VEVENT
DTSTART;TZID=America/New_York:20250620T100000
DTEND;TZID=America/New_York:20250620T110000
DTSTAMP:20260425T074812
CREATED:20250505T144505Z
LAST-MODIFIED:20250505T145751Z
UID:10000570-1750413600-1750417200@jsplpa.org
SUMMARY:Page Turners Book and Craft Club for adults of all abilities  10:00 a.m.
DESCRIPTION:
URL:https://jsplpa.org/event/page-turners-book-and-craft-club-for-adults-of-all-abilities-1000-a-m/2025-06-20/
END:VEVENT
BEGIN:VEVENT
DTSTART;TZID=America/New_York:20250623T110000
DTEND;TZID=America/New_York:20250623T120000
DTSTAMP:20260425T074812
CREATED:20250505T142616Z
LAST-MODIFIED:20250505T150739Z
UID:10000395-1750676400-1750680000@jsplpa.org
SUMMARY:Preschool storytime. Colorful capers.  11:00 a.m.
DESCRIPTION:
URL:https://jsplpa.org/event/preschool-storytime-colorful-capers-1100-a-m/2025-06-23/
END:VEVENT
BEGIN:VEVENT
DTSTART;TZID=America/New_York:20250624T180000
DTEND;TZID=America/New_York:20250624T200000
DTSTAMP:20260425T074812
CREATED:20250505T142932Z
LAST-MODIFIED:20250505T150343Z
UID:10000454-1750788000-1750795200@jsplpa.org
SUMMARY:Teen Summer Reading Club  6:00 p.m.
DESCRIPTION:
URL:https://jsplpa.org/event/teen-summer-reading-club-600/2025-06-24/
END:VEVENT
BEGIN:VEVENT
DTSTART;TZID=America/New_York:20250626T180000
DTEND;TZID=America/New_York:20250626T190000
DTSTAMP:20260425T074812
CREATED:20250505T144139Z
LAST-MODIFIED:20250505T150304Z
UID:10000512-1750960800-1750964400@jsplpa.org
SUMMARY:Kids' Summer Reading Clubs. 6:00-7:00 p.m. Ages 2-6 and 7-12.
DESCRIPTION:
URL:https://jsplpa.org/event/kids-summer-reading-clubs-600-700-p-m-ages-2-6-and-7-12/2025-06-26/
END:VEVENT
BEGIN:VEVENT
DTSTART;TZID=America/New_York:20250627T100000
DTEND;TZID=America/New_York:20250627T110000
DTSTAMP:20260425T074812
CREATED:20250505T144505Z
LAST-MODIFIED:20250505T145751Z
UID:10000571-1751018400-1751022000@jsplpa.org
SUMMARY:Page Turners Book and Craft Club for adults of all abilities  10:00 a.m.
DESCRIPTION:
URL:https://jsplpa.org/event/page-turners-book-and-craft-club-for-adults-of-all-abilities-1000-a-m/2025-06-27/
END:VEVENT
BEGIN:VEVENT
DTSTART;TZID=America/New_York:20250703T080000
DTEND;TZID=America/New_York:20250703T170000
DTSTAMP:20260425T074812
CREATED:20250505T151215Z
LAST-MODIFIED:20250505T151215Z
UID:10000629-1751529600-1751562000@jsplpa.org
SUMMARY:Library closes at 5:00 for Town Meeting Parade
DESCRIPTION:
URL:https://jsplpa.org/event/library-closes-at-500-for-town-meeting-parade/
END:VEVENT
BEGIN:VEVENT
DTSTART;TZID=America/New_York:20250704T090000
DTEND;TZID=America/New_York:20250704T170000
DTSTAMP:20260425T074812
CREATED:20250505T151541Z
LAST-MODIFIED:20250505T151757Z
UID:10000630-1751619600-1751648400@jsplpa.org
SUMMARY:Library CLOSED. Happy Independence Day!
DESCRIPTION:
URL:https://jsplpa.org/event/library-closed-happy-independence-day/
END:VEVENT
BEGIN:VEVENT
DTSTART;TZID=America/New_York:20250705T090000
DTEND;TZID=America/New_York:20250705T170000
DTSTAMP:20260425T074812
CREATED:20250505T151634Z
LAST-MODIFIED:20250505T151700Z
UID:10000631-1751706000-1751734800@jsplpa.org
SUMMARY:Library CLOSED.  Happy Independence Weekend!
DESCRIPTION:
URL:https://jsplpa.org/event/library-closed-happy-independence-weekend/
END:VEVENT
BEGIN:VEVENT
DTSTART;TZID=America/New_York:20250707T110000
DTEND;TZID=America/New_York:20250707T120000
DTSTAMP:20260425T074812
CREATED:20250505T142616Z
LAST-MODIFIED:20250505T150739Z
UID:10000397-1751886000-1751889600@jsplpa.org
SUMMARY:Preschool storytime. Colorful capers.  11:00 a.m.
DESCRIPTION:
URL:https://jsplpa.org/event/preschool-storytime-colorful-capers-1100-a-m/2025-07-07/
END:VEVENT
BEGIN:VEVENT
DTSTART;TZID=America/New_York:20250708T180000
DTEND;TZID=America/New_York:20250708T200000
DTSTAMP:20260425T074812
CREATED:20250505T142932Z
LAST-MODIFIED:20250505T150343Z
UID:10000455-1751997600-1752004800@jsplpa.org
SUMMARY:Teen Summer Reading Club  6:00 p.m.
DESCRIPTION:
URL:https://jsplpa.org/event/teen-summer-reading-club-600/2025-07-08/
END:VEVENT
BEGIN:VEVENT
DTSTART;TZID=America/New_York:20250710T180000
DTEND;TZID=America/New_York:20250710T190000
DTSTAMP:20260425T074812
CREATED:20250505T144925Z
LAST-MODIFIED:20250505T144925Z
UID:10000628-1752170400-1752174000@jsplpa.org
SUMMARY:Soaring Spirits Bird Sanctuary Family Program  6:00 p.m.
DESCRIPTION:
URL:https://jsplpa.org/event/soaring-spirits-bird-sanctuary-family-program-600-p-m/
END:VEVENT
BEGIN:VEVENT
DTSTART;TZID=America/New_York:20250711T100000
DTEND;TZID=America/New_York:20250711T110000
DTSTAMP:20260425T074812
CREATED:20250505T144703Z
LAST-MODIFIED:20250505T144703Z
UID:10000627-1752228000-1752231600@jsplpa.org
SUMMARY:Clyde Peeling's Reptiland  10:00 a.m.
DESCRIPTION:
URL:https://jsplpa.org/event/clyde-peelings-reptiland-1000-a-m/
LOCATION:Library Community Room
END:VEVENT
BEGIN:VEVENT
DTSTART;TZID=America/New_York:20250714T110000
DTEND;TZID=America/New_York:20250714T120000
DTSTAMP:20260425T074812
CREATED:20250505T142616Z
LAST-MODIFIED:20250505T150739Z
UID:10000398-1752490800-1752494400@jsplpa.org
SUMMARY:Preschool storytime. Colorful capers.  11:00 a.m.
DESCRIPTION:
URL:https://jsplpa.org/event/preschool-storytime-colorful-capers-1100-a-m/2025-07-14/
END:VEVENT
BEGIN:VEVENT
DTSTART;TZID=America/New_York:20250715T180000
DTEND;TZID=America/New_York:20250715T200000
DTSTAMP:20260425T074812
CREATED:20250505T142932Z
LAST-MODIFIED:20250505T150343Z
UID:10000456-1752602400-1752609600@jsplpa.org
SUMMARY:Teen Summer Reading Club  6:00 p.m.
DESCRIPTION:
URL:https://jsplpa.org/event/teen-summer-reading-club-600/2025-07-15/
END:VEVENT
BEGIN:VEVENT
DTSTART;TZID=America/New_York:20250717T180000
DTEND;TZID=America/New_York:20250717T190000
DTSTAMP:20260425T074812
CREATED:20250505T144139Z
LAST-MODIFIED:20250505T150304Z
UID:10000515-1752775200-1752778800@jsplpa.org
SUMMARY:Kids' Summer Reading Clubs. 6:00-7:00 p.m. Ages 2-6 and 7-12.
DESCRIPTION:
URL:https://jsplpa.org/event/kids-summer-reading-clubs-600-700-p-m-ages-2-6-and-7-12/2025-07-17/
END:VEVENT
BEGIN:VEVENT
DTSTART;TZID=America/New_York:20250718T100000
DTEND;TZID=America/New_York:20250718T110000
DTSTAMP:20260425T074812
CREATED:20250505T144505Z
LAST-MODIFIED:20250505T145751Z
UID:10000572-1752832800-1752836400@jsplpa.org
SUMMARY:Page Turners Book and Craft Club for adults of all abilities  10:00 a.m.
DESCRIPTION:
URL:https://jsplpa.org/event/page-turners-book-and-craft-club-for-adults-of-all-abilities-1000-a-m/2025-07-18/
END:VEVENT
END:VCALENDAR